BEGIN:VCALENDAR
VERSION:2.0
PRODID:-//jEvents 2.0 for Joomla//EN
CALSCALE:GREGORIAN
METHOD:PUBLISH
BEGIN:VTIMEZONE
TZID:Europe/Berlin
BEGIN:STANDARD
DTSTART:20231029T020000
RDATE:20240331T030000
TZOFFSETFROM:+0200
TZOFFSETTO:+0100
TZNAME:Europe/Berlin CET
END:STANDARD
BEGIN:STANDARD
DTSTART:20241027T020000
RDATE:20250330T030000
TZOFFSETFROM:+0200
TZOFFSETTO:+0100
TZNAME:Europe/Berlin CET
END:STANDARD
BEGIN:STANDARD
DTSTART:20251026T020000
RDATE:20260329T030000
TZOFFSETFROM:+0200
TZOFFSETTO:+0100
TZNAME:Europe/Berlin CET
END:STANDARD
BEGIN:STANDARD
DTSTART:20261025T020000
RDATE:20270328T030000
TZOFFSETFROM:+0200
TZOFFSETTO:+0100
TZNAME:Europe/Berlin CET
END:STANDARD
BEGIN:STANDARD
DTSTART:20271031T020000
RDATE:20280326T030000
TZOFFSETFROM:+0200
TZOFFSETTO:+0100
TZNAME:Europe/Berlin CET
END:STANDARD
BEGIN:STANDARD
DTSTART:20281029T020000
RDATE:20290325T030000
TZOFFSETFROM:+0200
TZOFFSETTO:+0100
TZNAME:Europe/Berlin CET
END:STANDARD
BEGIN:STANDARD
DTSTART:20291028T020000
RDATE:20300331T030000
TZOFFSETFROM:+0200
TZOFFSETTO:+0100
TZNAME:Europe/Berlin CET
END:STANDARD
BEGIN:STANDARD
DTSTART:20301027T020000
RDATE:20310330T030000
TZOFFSETFROM:+0200
TZOFFSETTO:+0100
TZNAME:Europe/Berlin CET
END:STANDARD
BEGIN:STANDARD
DTSTART:20311026T020000
RDATE:20320328T030000
TZOFFSETFROM:+0200
TZOFFSETTO:+0100
TZNAME:Europe/Berlin CET
END:STANDARD
BEGIN:DAYLIGHT
DTSTART:20230819T160000
RDATE:20231029T020000
TZOFFSETFROM:+0100
TZOFFSETTO:+0200
TZNAME:Europe/Berlin CEST
END:DAYLIGHT
BEGIN:DAYLIGHT
DTSTART:20240331T030000
RDATE:20241027T020000
TZOFFSETFROM:+0100
TZOFFSETTO:+0200
TZNAME:Europe/Berlin CEST
END:DAYLIGHT
BEGIN:DAYLIGHT
DTSTART:20250330T030000
RDATE:20251026T020000
TZOFFSETFROM:+0100
TZOFFSETTO:+0200
TZNAME:Europe/Berlin CEST
END:DAYLIGHT
BEGIN:DAYLIGHT
DTSTART:20260329T030000
RDATE:20261025T020000
TZOFFSETFROM:+0100
TZOFFSETTO:+0200
TZNAME:Europe/Berlin CEST
END:DAYLIGHT
BEGIN:DAYLIGHT
DTSTART:20270328T030000
RDATE:20271031T020000
TZOFFSETFROM:+0100
TZOFFSETTO:+0200
TZNAME:Europe/Berlin CEST
END:DAYLIGHT
BEGIN:DAYLIGHT
DTSTART:20280326T030000
RDATE:20281029T020000
TZOFFSETFROM:+0100
TZOFFSETTO:+0200
TZNAME:Europe/Berlin CEST
END:DAYLIGHT
BEGIN:DAYLIGHT
DTSTART:20290325T030000
RDATE:20291028T020000
TZOFFSETFROM:+0100
TZOFFSETTO:+0200
TZNAME:Europe/Berlin CEST
END:DAYLIGHT
BEGIN:DAYLIGHT
DTSTART:20300331T030000
RDATE:20301027T020000
TZOFFSETFROM:+0100
TZOFFSETTO:+0200
TZNAME:Europe/Berlin CEST
END:DAYLIGHT
BEGIN:DAYLIGHT
DTSTART:20310330T030000
RDATE:20311026T020000
TZOFFSETFROM:+0100
TZOFFSETTO:+0200
TZNAME:Europe/Berlin CEST
END:DAYLIGHT
END:VTIMEZONE
BEGIN:VEVENT
UID:258dc0e658e202748c04d18d3dc6a7b1
CATEGORIES:Aktionen am Homa-Hof
CREATED:20240318T091017
SUMMARY:OM Tryambakam-Yagna Vollmond
LOCATION: Homa-Hof Heiligenberg\, Oberhaslach 6\, 88633 Heiligenberg\, Deutschland
DESCRIPTION:<h3>OM Tryambakam-Yagna am Homa-Hof</h3><p>Du praktizierst bereits Agnihotr
 a und verfügst über Grundkenntnisse zu OM Tryambakam-Yagna?</p><p>Dann bist
  du herzlich willkommen, an unserem&nbsp;OM Tryambakam-Yagna teilzunehmen. 
 Segensreiche und heilsame Wirkungen im Besonderen auf den seelischen, psych
 ischen Bereich können durch längeres Praktizieren des OM Tryambakam-Mantras
  und die besondere Einstrahlung zu Vollmond erfahren werden. Erlebe die woh
 ltuende Atmosphäre am Homa-Hof und die spürbare Harmonisierung deines seeli
 schen Wohlbefindens durch Dabeisein und/oder Mitsingen und gerne auch selbs
 t Praktizieren des OM Tryambakam-Yagnas.</p><p>Wir beenden das Yagna mit ge
 meinsamen Agnihotra-Feuern zu Sonnenuntergang.</p><p><strong>Was dich erwar
 tet:<br /></strong></p><ul><li>Du kannst das OM Tryambakam-Yagna bei der ge
 meinsamen Durchführung gut erlernen und abwechselnd mit anderen Teilnehmern
  selbst praktizieren.</li><li>Zeit und Dauer deiner Teilnahme kannst du fle
 xibel gestalten - du kannst zwischendurch auf dem Hofgelände spazieren gehe
 n, auf einer Bank an unserem Teich sitzen und die besondere Homa-Atmosphäre
  auf dich wirken lassen, ein mitgebrachtes Vesper genießen.</li><li>Es ist 
 auch eine gute Gelegenheit für Gespräche und Erfahrungsaustausch mit Gleich
 gesinnten.</li><li>Wir praktizieren gemeinsam Agnihotra zu Sonnenuntergang 
 mit eigenen oder zur Verfügung gestellten Utensilien.</li></ul><p>&nbsp;</p
 ><p><strong>Besucherhinweise:</strong> Damit du dich am Homa-Hof von Anfang
  an wie zu Hause fühlen kannst, beachte bitte unsere <a href="index.php?opt
 ion=com_content&amp;view=article&amp;id=67&amp;Itemid=469">Besucherhinweise
 </a>. Hier findest du auch Tipps zur Anreise und Unterkunft. Der Homa-Hof l
 iegt auf über 700 m Höhe. Festes Schuhwerk und eine zusätzliche warme Jacke
  sind oft hilfreich, ggf. auch ein Sonnenschutz.<br /><br /><strong>Kosten:
 </strong> Die Teilnahme an allen Veranstaltungen am Homa-Hof ist <strong>ge
 bührenfrei</strong>.<br />Wir freuen uns über jede Spende zur Verbreitung u
 nd Erforschung der Homa-Feuertechniken für Natur, Umwelt und Gesundheit.</p
 ><h4>&nbsp;</h4><h4>Du bist herzlich willkommen!</h4><p>&nbsp;</p>
X-ALT-DESC;FMTTYPE=text/html:<h3>OM Tryambakam-Yagna am Homa-Hof</h3><p>Du praktizierst bereits Agnihotr
 a und verfügst über Grundkenntnisse zu OM Tryambakam-Yagna?</p><p>Dann bist
  du herzlich willkommen, an unserem&nbsp;OM Tryambakam-Yagna teilzunehmen. 
 Segensreiche und heilsame Wirkungen im Besonderen auf den seelischen, psych
 ischen Bereich können durch längeres Praktizieren des OM Tryambakam-Mantras
  und die besondere Einstrahlung zu Vollmond erfahren werden. Erlebe die woh
 ltuende Atmosphäre am Homa-Hof und die spürbare Harmonisierung deines seeli
 schen Wohlbefindens durch Dabeisein und/oder Mitsingen und gerne auch selbs
 t Praktizieren des OM Tryambakam-Yagnas.</p><p>Wir beenden das Yagna mit ge
 meinsamen Agnihotra-Feuern zu Sonnenuntergang.</p><p><strong>Was dich erwar
 tet:<br /></strong></p><ul><li>Du kannst das OM Tryambakam-Yagna bei der ge
 meinsamen Durchführung gut erlernen und abwechselnd mit anderen Teilnehmern
  selbst praktizieren.</li><li>Zeit und Dauer deiner Teilnahme kannst du fle
 xibel gestalten - du kannst zwischendurch auf dem Hofgelände spazieren gehe
 n, auf einer Bank an unserem Teich sitzen und die besondere Homa-Atmosphäre
  auf dich wirken lassen, ein mitgebrachtes Vesper genießen.</li><li>Es ist 
 auch eine gute Gelegenheit für Gespräche und Erfahrungsaustausch mit Gleich
 gesinnten.</li><li>Wir praktizieren gemeinsam Agnihotra zu Sonnenuntergang 
 mit eigenen oder zur Verfügung gestellten Utensilien.</li></ul><p>&nbsp;</p
 ><p><strong>Besucherhinweise:</strong> Damit du dich am Homa-Hof von Anfang
  an wie zu Hause fühlen kannst, beachte bitte unsere <a href="https://www.h
 oma-hof-heiligenberg.de/index.php?option=com_content&amp;view=article&amp;i
 d=67&amp;Itemid=469">Besucherhinweise</a>. Hier findest du auch Tipps zur A
 nreise und Unterkunft. Der Homa-Hof liegt auf über 700 m Höhe. Festes Schuh
 werk und eine zusätzliche warme Jacke sind oft hilfreich, ggf. auch ein Son
 nenschutz.<br /><br /><strong>Kosten:</strong> Die Teilnahme an allen Veran
 staltungen am Homa-Hof ist <strong>gebührenfrei</strong>.<br />Wir freuen u
 ns über jede Spende zur Verbreitung und Erforschung der Homa-Feuertechniken
  für Natur, Umwelt und Gesundheit.</p><h4>&nbsp;</h4><h4>Du bist herzlich w
 illkommen!</h4><p>&nbsp;</p>
CONTACT:Diese E-Mail-Adresse ist vor Spambots geschützt! Zur Anzeige muss JavaScript eingeschaltet sein.
DTSTAMP:20260421T090236
DTSTART;TZID=Europe/Berlin:20240819T160000
DTEND;TZID=Europe/Berlin:20240819T203000
SEQUENCE:0
TRANSP:OPAQUE
END:VEVENT
END:VCALENDAR