BEGIN:VCALENDAR
VERSION:2.0
PRODID:-//jEvents 2.0 for Joomla//EN
CALSCALE:GREGORIAN
METHOD:PUBLISH
BEGIN:VTIMEZONE
TZID:Europe/Berlin
BEGIN:STANDARD
DTSTART:20221030T020000
RDATE:20230326T030000
TZOFFSETFROM:+0200
TZOFFSETTO:+0100
TZNAME:Europe/Berlin CET
END:STANDARD
BEGIN:STANDARD
DTSTART:20231029T020000
RDATE:20240331T030000
TZOFFSETFROM:+0200
TZOFFSETTO:+0100
TZNAME:Europe/Berlin CET
END:STANDARD
BEGIN:STANDARD
DTSTART:20241027T020000
RDATE:20250330T030000
TZOFFSETFROM:+0200
TZOFFSETTO:+0100
TZNAME:Europe/Berlin CET
END:STANDARD
BEGIN:STANDARD
DTSTART:20251026T020000
RDATE:20260329T030000
TZOFFSETFROM:+0200
TZOFFSETTO:+0100
TZNAME:Europe/Berlin CET
END:STANDARD
BEGIN:STANDARD
DTSTART:20261025T020000
RDATE:20270328T030000
TZOFFSETFROM:+0200
TZOFFSETTO:+0100
TZNAME:Europe/Berlin CET
END:STANDARD
BEGIN:STANDARD
DTSTART:20271031T020000
RDATE:20280326T030000
TZOFFSETFROM:+0200
TZOFFSETTO:+0100
TZNAME:Europe/Berlin CET
END:STANDARD
BEGIN:STANDARD
DTSTART:20281029T020000
RDATE:20290325T030000
TZOFFSETFROM:+0200
TZOFFSETTO:+0100
TZNAME:Europe/Berlin CET
END:STANDARD
BEGIN:STANDARD
DTSTART:20291028T020000
RDATE:20300331T030000
TZOFFSETFROM:+0200
TZOFFSETTO:+0100
TZNAME:Europe/Berlin CET
END:STANDARD
BEGIN:STANDARD
DTSTART:20301027T020000
RDATE:20310330T030000
TZOFFSETFROM:+0200
TZOFFSETTO:+0100
TZNAME:Europe/Berlin CET
END:STANDARD
BEGIN:STANDARD
DTSTART:20311026T020000
RDATE:20320328T030000
TZOFFSETFROM:+0200
TZOFFSETTO:+0100
TZNAME:Europe/Berlin CET
END:STANDARD
BEGIN:DAYLIGHT
DTSTART:20220915T150000
RDATE:20221030T020000
TZOFFSETFROM:+0100
TZOFFSETTO:+0200
TZNAME:Europe/Berlin CEST
END:DAYLIGHT
BEGIN:DAYLIGHT
DTSTART:20230326T030000
RDATE:20231029T020000
TZOFFSETFROM:+0100
TZOFFSETTO:+0200
TZNAME:Europe/Berlin CEST
END:DAYLIGHT
BEGIN:DAYLIGHT
DTSTART:20240331T030000
RDATE:20241027T020000
TZOFFSETFROM:+0100
TZOFFSETTO:+0200
TZNAME:Europe/Berlin CEST
END:DAYLIGHT
BEGIN:DAYLIGHT
DTSTART:20250330T030000
RDATE:20251026T020000
TZOFFSETFROM:+0100
TZOFFSETTO:+0200
TZNAME:Europe/Berlin CEST
END:DAYLIGHT
BEGIN:DAYLIGHT
DTSTART:20260329T030000
RDATE:20261025T020000
TZOFFSETFROM:+0100
TZOFFSETTO:+0200
TZNAME:Europe/Berlin CEST
END:DAYLIGHT
BEGIN:DAYLIGHT
DTSTART:20270328T030000
RDATE:20271031T020000
TZOFFSETFROM:+0100
TZOFFSETTO:+0200
TZNAME:Europe/Berlin CEST
END:DAYLIGHT
BEGIN:DAYLIGHT
DTSTART:20280326T030000
RDATE:20281029T020000
TZOFFSETFROM:+0100
TZOFFSETTO:+0200
TZNAME:Europe/Berlin CEST
END:DAYLIGHT
BEGIN:DAYLIGHT
DTSTART:20290325T030000
RDATE:20291028T020000
TZOFFSETFROM:+0100
TZOFFSETTO:+0200
TZNAME:Europe/Berlin CEST
END:DAYLIGHT
BEGIN:DAYLIGHT
DTSTART:20300331T030000
RDATE:20301027T020000
TZOFFSETFROM:+0100
TZOFFSETTO:+0200
TZNAME:Europe/Berlin CEST
END:DAYLIGHT
BEGIN:DAYLIGHT
DTSTART:20310330T030000
RDATE:20311026T020000
TZOFFSETFROM:+0100
TZOFFSETTO:+0200
TZNAME:Europe/Berlin CEST
END:DAYLIGHT
END:VTIMEZONE
BEGIN:VEVENT
UID:0f26a72424b23a6c5977f1d394efd961
CATEGORIES:Seminare am Homa-Hof
CREATED:20230902T104123
SUMMARY:Agnihotra Fortgeschrittenen - Seminar
DESCRIPTION:Agnihotra - Seminar für FortgeschritteneDieses Seminar ist auf 17 Teilnehme
 r begrenzt, um es persönlicher und individueller gestalten zu können.\nDu p
 raktizierst Agnihotra seit mindestens einem Jahr, hast schon deine eigenen 
 Erfahrungen und Erlebnisse damit gehabt, möchtest dich dazu gerne mit ander
 en austauschen und mehr erfahren.\nWas dich in diesem Seminar erwartet:\n\n
  - Erfahrungsaustausch mit anderen Agnhotris\n - weitere Anwendungsbereiche
  und Einsatzmöglichkeiten\n - Agnihotra - Wahrnehmung und Wirkung auf feins
 tofflichen Ebenen\n - Agnihotra - Wirkung auf deine feinstofflichen Körper\
 n - Agnihotra und geistige Entwicklung\n - weitere praktische Tipps für die
  Durchführung\n - Informationen zu weiteren vedischen FeuertechnikenZum Son
 nenuntergang wollen wir das Agnihotra-Feuer gemeinsam durchführen und erleb
 en – bei gutem Wetter mit Blick auf die Farbenpracht des Sonnenuntergangs.\
 nZwischendurch bleibt genügend Zeit für persönliche Gespräche und die Geleg
 enheit, sich in unserem Hofladen umzusehen. Dort findest du Zubehör für die
  Feuertechniken, Hofprodukte wie Gemüse, Honig und Apfelsaft sowie Bücher u
 nd Musik-CDs aus dem Horst Heigl Verlag.\n\n{os-gal-5}\nBesucherhinweise: D
 amit du dich am Homa-Hof von Anfang an wie zu Hause fühlen kannst, beachte 
 bitte unsere Besucherhinweise (index.php?option=com_content&amp;view=articl
 e&amp;id=67&amp;Itemid=469). Hier findest du auch Tipps zur Anreise und Unt
 erkunft. Der Homa-Hof liegt auf über 700 m Höhe. Festes Schuhwerk und eine 
 zusätzliche warme Jacke sind oft hilfreich, ggf. auch ein Sonnenschutz.\n\n
 Kosten: Die Teilnahme an dieser Veranstaltung am Homa-Hof erfolgt auf Spend
 enbasis.\nZur Deckung der Kosten und auch zur Verbreitung und Erforschung d
 er Homa-Feuertechniken für Natur, Umwelt und Gesundheit kannst du mit einer
  Spende und/oder Mithilfe mitwirken.\n \nDu bist herzlich willkommen!
X-ALT-DESC;FMTTYPE=text/html:<h3>Agnihotra - Seminar für Fortgeschrittene</h3><p>Dieses Seminar ist auf 
 17 Teilnehmer begrenzt, um es persönlicher und individueller gestalten zu k
 önnen.</p><p><strong>Du praktizierst Agnihotra seit mindestens einem Jahr, 
 hast schon deine eigenen Erfahrungen und Erlebnisse damit gehabt, möchtest 
 dich dazu gerne mit anderen austauschen und mehr erfahren.</strong></p><p>W
 as dich in diesem Seminar erwartet:</p><ul><li>Erfahrungsaustausch mit ande
 ren Agnhotris</li><li>weitere Anwendungsbereiche und Einsatzmöglichkeiten</
 li><li>Agnihotra - Wahrnehmung und Wirkung auf feinstofflichen Ebenen</li><
 li>Agnihotra - Wirkung auf deine feinstofflichen Körper</li><li>Agnihotra u
 nd geistige Entwicklung</li><li>weitere praktische Tipps für die Durchführu
 ng</li><li>Informationen zu weiteren vedischen Feuertechniken</li></ul><p>Z
 um Sonnenuntergang wollen wir das Agnihotra-Feuer gemeinsam durchführen und
  erleben – bei gutem Wetter mit Blick auf die Farbenpracht des Sonnenunterg
 angs.</p><p>Zwischendurch bleibt genügend Zeit für persönliche Gespräche un
 d die Gelegenheit, sich in unserem Hofladen umzusehen. Dort findest du Zube
 hör für die Feuertechniken, Hofprodukte wie Gemüse, Honig und Apfelsaft sow
 ie Bücher und Musik-CDs aus dem Horst Heigl Verlag.<br /><br /><span class=
 "span3 col-3">{os-gal-5}</span></p><p><strong>Besucherhinweise:</strong> Da
 mit du dich am Homa-Hof von Anfang an wie zu Hause fühlen kannst, beachte b
 itte unsere <a href="https://www.homa-hof-heiligenberg.de/index.php?option=
 com_content&amp;view=article&amp;id=67&amp;Itemid=469">Besucherhinweise</a>
 . Hier findest du auch Tipps zur Anreise und Unterkunft. Der Homa-Hof liegt
  auf über 700 m Höhe. Festes Schuhwerk und eine zusätzliche warme Jacke sin
 d oft hilfreich, ggf. auch ein Sonnenschutz.</p><p><br /><strong>Kosten:</s
 trong> Die Teilnahme an dieser Veranstaltung am Homa-Hof erfolgt auf Spende
 nbasis.<br />Zur Deckung der Kosten und auch zur Verbreitung und Erforschun
 g der Homa-Feuertechniken für Natur, Umwelt und Gesundheit kannst du mit ei
 ner Spende und/oder Mithilfe mitwirken.</p><p>&nbsp;</p><h4>Du bist herzlic
 h willkommen!</h4>
DTSTAMP:20260421T082527
DTSTART;TZID=Europe/Berlin:20230916T150000
DTEND;TZID=Europe/Berlin:20230916T200000
SEQUENCE:0
TRANSP:OPAQUE
END:VEVENT
END:VCALENDAR